﻿BEGIN:VCALENDAR
VERSION:2.0
PRODID:-//Mairie de Ferney-Voltaire - ECPv5.1.6//NONSGML v1.0//EN
CALSCALE:GREGORIAN
METHOD:PUBLISH
X-WR-CALNAME:Mairie de Ferney-Voltaire
X-ORIGINAL-URL:https://www.ferney-voltaire.fr
X-WR-CALDESC:évènements pour Mairie de Ferney-Voltaire
BEGIN:VTIMEZONE
TZID:Europe/Paris
BEGIN:DAYLIGHT
TZOFFSETFROM:+0100
TZOFFSETTO:+0200
TZNAME:CEST
DTSTART:20260329T010000
END:DAYLIGHT
BEGIN:STANDARD
TZOFFSETFROM:+0200
TZOFFSETTO:+0100
TZNAME:CET
DTSTART:20261025T010000
END:STANDARD
END:VTIMEZONE
BEGIN:VEVENT
DTSTART;TZID=Europe/Paris:20260423T134500
DTEND;TZID=Europe/Paris:20260423T150000
DTSTAMP:20260422T105636
CREATED:20251027T090955Z
LAST-MODIFIED:20251027T091208Z
UID:59238-1776951900-1776956400@www.ferney-voltaire.fr
SUMMARY:Causerie historique : L'ONU\, les casques bleus et l'OTAN
DESCRIPTION:Jeudi 23 avril\, la causerie historique à la médiathèque Le Châtelard aura pour thème « L’ONU\, les casques bleus et l’OTAN ».  \n« Espoir en 1945\, décriée aujourd’hui\, l’Organisation des Nationaux unies a été créée au lendemain du plus meurtrier des conflits. Avec sa force d’interposition\, les casques bleus\, l’ONU intervient pour empêcher la relance des conflits dans de nombreux pays du monde. L’ONU a également donné un cadre juridique à des interventions armées\, comme au Koweit. Aujourd’hui\, la guerre n’a pas été éradiquée\, et pourtant l’ONU agit. Retour sur le rôle de l’ONU pour la paix. » \nAvec la complicité des lecteurs de l’association Histothèque pour les sources historiques qui illustrent ces portraits. \nGratuit\, sur inscription (LIEN À VENIR). \n  \n  \nVisuel : ©Ville de Ferney-Voltaire
URL:https://www.ferney-voltaire.fr/agenda/causerie-historique-le-combat-des-femmes-pour-la-paix-23-avril/
LOCATION:Médiathèque Le Châtelard\, 23 rue de Meyrin\, Ferney-Voltaire\, 01210
CATEGORIES:Conférence et réunion,Saison culturelle
ATTACH;FMTTYPE=image/jpeg:https://www.ferney-voltaire.fr/wp-content/uploads/2023/04/site-evenements-et-actus-causerie-historique.jpg
ORGANIZER;CN="M%C3%A9diath%C3%A8que%20Le%20Ch%C3%A2telard":MAILTO:mediatheque@ferney-voltaire.fr
GEO:46.254685;6.109815
X-APPLE-STRUCTURED-LOCATION;VALUE=URI;X-ADDRESS=Médiathèque Le Châtelard 23 rue de Meyrin Ferney-Voltaire 01210;X-APPLE-RADIUS=500;X-TITLE=23 rue de Meyrin:geo:6.109815,46.254685
END:VEVENT
BEGIN:VEVENT
DTSTART;TZID=Europe/Paris:20260424T203000
DTEND;TZID=Europe/Paris:20260424T203000
DTSTAMP:20260422T105636
CREATED:20250610T175345Z
LAST-MODIFIED:20251010T125357Z
UID:56870-1777062600-1777062600@www.ferney-voltaire.fr
SUMMARY:Théâtre : Telle est la question
DESCRIPTION:Découvrez Telle est la question\, une pièce de théâtre d’après William Shakespeare avec Cédric Dianiélo\, vendredi 24 avril à 20h30 au théâtre La Comédie. Dans le cadre de la saison culturelle au pays de Voltaire. \nD’après William Shakespeare. Avec Cédric Daniélo. \nUne pièce de théâtre accueillie par la compagnie Thalie dans le cadre de la saison culturelle au pays de Voltaire. \nInformations pratiques\nVendredi 24 avril 2026\, 20h30. \nTarifs : \n\nplein : 20 €\nréduit : 15 €\n\nBilletterie : https://compagniethalie.org/260424-telle-est-la-question/ \n  \n  \nCrédit visuel : ©Hugo Fleurance \n 
URL:https://www.ferney-voltaire.fr/agenda/theatre-telle-est-la-question/
LOCATION:Théâtre de la Comédie\, 33 Grand'Rue\, Ferney-Voltaire\, 01210
CATEGORIES:Saison culturelle,Spectacle vivant
ATTACH;FMTTYPE=image/jpeg:https://www.ferney-voltaire.fr/wp-content/uploads/2025/06/site-evenements-et-actus-saison-culturelle-telle-est-la-question.jpg
ORGANIZER;CN="Compagnie%20Thalie":MAILTO:info@compagniethalie.org
GEO:46.2578762;6.1110087
X-APPLE-STRUCTURED-LOCATION;VALUE=URI;X-ADDRESS=Théâtre de la Comédie 33 Grand'Rue Ferney-Voltaire 01210;X-APPLE-RADIUS=500;X-TITLE=33 Grand'Rue:geo:6.1110087,46.2578762
END:VEVENT
BEGIN:VEVENT
DTSTART;TZID=Europe/Paris:20260425T183000
DTEND;TZID=Europe/Paris:20260425T193000
DTSTAMP:20260422T105636
CREATED:20220307T170511Z
LAST-MODIFIED:20260408T101056Z
UID:41846-1777141800-1777145400@www.ferney-voltaire.fr
SUMMARY:Spectacle : "BEZEF"
DESCRIPTION:Découvrez le spectacle BEZEF\, samedi 25 avril à 18h30 au théâtre Micromégas dans le cadre de la saison culturelle au Pays de Voltaire. \nSix fois le portefaix d’Ispahan subit l’immensité de l’imposture croissante qui lui impose un destin propice. Notre plaisir talonne la démesure de son effroi. Plus grande est la supercherie\, plus intense est notre plaisir. \nPar Nefissa Benouniche. Dès 8 ans. \nDans le cadre de « Histoires d’un soir ». \nInformations pratiques :\nThéâtre Micromégas de 18h30 à 19h30. \nEntrée libre. \n  \n  \nVisuel : ©Nefissa Benouniche
URL:https://www.ferney-voltaire.fr/agenda/bezef/
LOCATION:Théâtre Micromégas\, 24 bis rue de Meyrin\, Ferney-Voltaire\, 01210
CATEGORIES:Saison culturelle,Spectacle vivant
ATTACH;FMTTYPE=image/jpeg:https://www.ferney-voltaire.fr/wp-content/uploads/2022/03/site-evenements-et-actus-bezef.jpg
ORGANIZER;CN="Service%20culturel%20Ferney-Voltaire":MAILTO:service.culturel@ferney-voltaire.fr
GEO:46.2547943;6.1097483
X-APPLE-STRUCTURED-LOCATION;VALUE=URI;X-ADDRESS=Théâtre Micromégas 24 bis rue de Meyrin Ferney-Voltaire 01210;X-APPLE-RADIUS=500;X-TITLE=24 bis rue de Meyrin:geo:6.1097483,46.2547943
END:VEVENT
BEGIN:VEVENT
DTSTART;TZID=Europe/Paris:20260521T134500
DTEND;TZID=Europe/Paris:20260521T150000
DTSTAMP:20260422T105636
CREATED:20251027T091657Z
LAST-MODIFIED:20251027T091657Z
UID:59242-1779371100-1779375600@www.ferney-voltaire.fr
SUMMARY:Causerie historique : La société civile contre la guerre\, le Flower Power
DESCRIPTION:Jeudi 21 mai\, la causerie historique à la médiathèque Le Châtelard aura pour thème « La société civile contre la guerre\, le Flower Power ».  \n« On l’a vu\, agir pour la paix est le rôle des Etats\, des organisations internationales\, des ONG… Mais c’est aussi le rôle de chacun\, de la société civile. En Amérique\, c’est ce que proclamait Martin Luther King. En Inde\, c’est la voix de Gandhi. Puis on a vu germer les fleurs et les slogans Peace and Love… Que peut la société civile pour faire avancer la paix ? » \nAvec la complicité des lecteurs de l’association Histothèque pour les sources historiques qui illustrent ces portraits. \nGratuit\, sur inscription (LIEN À VENIR). \n  \n  \nVisuel : ©Ville de Ferney-Voltaire
URL:https://www.ferney-voltaire.fr/agenda/causerie-historique-la-societe-civile-contre-la-guerre-le-flower-power-21-mai/
LOCATION:Médiathèque Le Châtelard\, 23 rue de Meyrin\, Ferney-Voltaire\, 01210
CATEGORIES:Conférence et réunion,Saison culturelle
ATTACH;FMTTYPE=image/jpeg:https://www.ferney-voltaire.fr/wp-content/uploads/2023/04/site-evenements-et-actus-causerie-historique.jpg
ORGANIZER;CN="M%C3%A9diath%C3%A8que%20Le%20Ch%C3%A2telard":MAILTO:mediatheque@ferney-voltaire.fr
GEO:46.254685;6.109815
X-APPLE-STRUCTURED-LOCATION;VALUE=URI;X-ADDRESS=Médiathèque Le Châtelard 23 rue de Meyrin Ferney-Voltaire 01210;X-APPLE-RADIUS=500;X-TITLE=23 rue de Meyrin:geo:6.109815,46.254685
END:VEVENT
BEGIN:VEVENT
DTSTART;TZID=Europe/Paris:20260529T203000
DTEND;TZID=Europe/Paris:20260529T203000
DTSTAMP:20260422T105636
CREATED:20250610T175353Z
LAST-MODIFIED:20260414T122336Z
UID:56883-1780086600-1780086600@www.ferney-voltaire.fr
SUMMARY:Théâtre d'objets : Viva !
DESCRIPTION:Viva ! est un spectacle à découvrir vendredi 29 mai à 20h30 au théâtre La Comédie. Dans le cadre de la saison culturelle au pays de Voltaire. \n« Voilà 50 ans\, dans un petit village de Castille\, Pepe\, mon grand-père a tué Maria\, ma grand-mère. Je l’ai appris bien des années plus tard\, presque par hasard. » \nVIVA ! est le récit d’un féminicide commis en pleine dictature\, dans le sillage de la Guerre Civile Espagnole. Le récit d’un tabou sociétal et familial. \nSur le plateau un bureau. \nSur le bureau des objets. \nPapier\, agrafeuse\, rouleau de scotch\, crayons et taille-crayon… vont s’atteler à reconstituer l’Histoire. \nSans jamais oublier le pouvoir salvateur de l’humour\, VIVA ! interroge la part de responsabilité collective nichée dans les actes individuels\, la capacité d’une société à se réparer et à se transformer. \nUn spectacle dans le cadre de la saison culturelle au pays de Voltaire. \nInformations sur le spectacle\nPar La Loquace Compagnie. \nEcriture\, mise en scène et jeu : Daniel Olmos et Lisa Peyron \nAccompagnement global à la création : Katy Deville \nRegard artistique : Clément Montagnier \nInformations pratiques\nVendredi 29 mai 2026\, 20h30. \nÀ partir de 12 ans. \nTarifs : \n\nplein : 18 €\nréduit : 10 €\n\nBilletterie : https://ferney-voltaire.notre-billetterie.fr/ \n  \n  \nCrédit visuel : ©Luís Días
URL:https://www.ferney-voltaire.fr/agenda/theatre-dobjets-viva/
LOCATION:Théâtre de la Comédie\, 33 Grand'Rue\, Ferney-Voltaire\, 01210
CATEGORIES:Saison culturelle,Spectacle vivant
ATTACH;FMTTYPE=image/jpeg:https://www.ferney-voltaire.fr/wp-content/uploads/2025/06/site-evenements-et-actus-saison-culturelle-viva.jpg
ORGANIZER;CN="Service%20culturel%20Ferney-Voltaire%20%28saison%20culturelle%29":MAILTO:service.culturel@ferney-voltaire.fr
GEO:46.2578762;6.1110087
X-APPLE-STRUCTURED-LOCATION;VALUE=URI;X-ADDRESS=Théâtre de la Comédie 33 Grand'Rue Ferney-Voltaire 01210;X-APPLE-RADIUS=500;X-TITLE=33 Grand'Rue:geo:6.1110087,46.2578762
END:VEVENT
BEGIN:VEVENT
DTSTART;VALUE=DATE:20260617
DTEND;VALUE=DATE:20260618
DTSTAMP:20260422T105636
CREATED:20250610T175330Z
LAST-MODIFIED:20251010T125342Z
UID:56885-1781654400-1781740799@www.ferney-voltaire.fr
SUMMARY:Festival d'arts de rue : Tôt ou T'Arts
DESCRIPTION:Le Festival Tôt ou T’Arts fait escale à Ferney-Voltaire mercredi 17 juin 2026 après-midi au quartier des Tattes ! Dans le cadre de la saison culturelle au pays de Voltaire. \nLe Festival Tôt ou T’Arts\, ce sont des spectacles pluridisciplinaires entre rire\, magie détournée\, acrobaties à couper le souffle\, visites décalées… Et des compagnies principalement originaires de la région Auvergne-Rhône-Alpes. \nOrganisé par le Centre Socioculturel Les Libellules avec la Ville de Ferney-Voltaire et La Boussole\, espace de vie sociale communal. \nSpectacles gratuits\, accès libre. \nDans le cadre de la saison culturelle au pays de Voltaire. \nLe programme\nProgramme à venir prochainement ici. \n  \n  \nCrédit visuel : ©Ville de Ferney-Voltaire
URL:https://www.ferney-voltaire.fr/agenda/festival-darts-de-rue-tot-ou-tarts-2026/
LOCATION:Quartier des Tattes\, avenue des Alpes\, Ferney-Voltaire\, 01210
CATEGORIES:Saison culturelle,Spectacle vivant
ATTACH;FMTTYPE=image/jpeg:https://www.ferney-voltaire.fr/wp-content/uploads/2025/06/site-evenements-et-actus-saison-culturelle-festival-tot-ou-tarts.jpg
ORGANIZER;CN="Festival%20T%C3%B4t%20ou%20t%27Arts":MAILTO:festival.totoutarts@cscleslibellules.fr
GEO:46.25687;6.118329
X-APPLE-STRUCTURED-LOCATION;VALUE=URI;X-ADDRESS=Quartier des Tattes avenue des Alpes Ferney-Voltaire 01210;X-APPLE-RADIUS=500;X-TITLE=avenue des Alpes:geo:6.118329,46.25687
END:VEVENT
BEGIN:VEVENT
DTSTART;TZID=Europe/Paris:20260627T180000
DTEND;TZID=Europe/Paris:20260627T235900
DTSTAMP:20260422T105636
CREATED:20250610T175314Z
LAST-MODIFIED:20251010T125331Z
UID:57000-1782583200-1782604740@www.ferney-voltaire.fr
SUMMARY:Arts de la rue : La Fête à Voltaire
DESCRIPTION:Arts de la rue\, concerts\, danse\, théâtre\, cirque\, déambulations… Cette année encore\, la diversité et la qualité des spectacles présentés par des compagnies professionnelles et des troupes locales seront à retrouver le temps d’une soirée\, samedi 27 juin 2026 dans le centre-ville de Ferney-Voltaire. \nRendez-vous culturel et populaire de la Ville\, la Fête à Voltaire conjugue spectacles de rue et musiques actuelles\, scènes fixes\, artistes itinérants\, professionnels et bénévoles pour un programme artistique et festif. Les rues du centre-ville sont ainsi l’occasion d’un grand théâtre en extérieur\, avec des stands aux saveurs des cuisines du monde\, tenus par les associations locales.\nUn moment d’exception à partager avec des centaines de bénévoles et de professionnels ! \nLe programme complet sera en ligne ici. \nAccès libre. \n  \n  \nCrédit visuel : ©Ville de Ferney-Voltaire
URL:https://www.ferney-voltaire.fr/agenda/la-fete-a-voltaire-27-juin-2026/
LOCATION:Centre-ville\, 1 avenue Voltaire\, Ferney-Voltaire\, 01210
CATEGORIES:Animation,Saison culturelle
ATTACH;FMTTYPE=image/jpeg:https://www.ferney-voltaire.fr/wp-content/uploads/2025/06/site-evenements-et-actus-saison-culturelle-fete-a-voltaire.jpg
ORGANIZER;CN="Service%20culturel%20Ferney-Voltaire%20%28saison%20culturelle%29":MAILTO:service.culturel@ferney-voltaire.fr
GEO:46.2566005;6.1088816
X-APPLE-STRUCTURED-LOCATION;VALUE=URI;X-ADDRESS=Centre-ville 1 avenue Voltaire Ferney-Voltaire 01210;X-APPLE-RADIUS=500;X-TITLE=1 avenue Voltaire:geo:6.1088816,46.2566005
END:VEVENT
END:VCALENDAR