﻿BEGIN:VCALENDAR
VERSION:2.0
PRODID:-//Mairie de Ferney-Voltaire - ECPv5.1.6//NONSGML v1.0//EN
CALSCALE:GREGORIAN
METHOD:PUBLISH
X-WR-CALNAME:Mairie de Ferney-Voltaire
X-ORIGINAL-URL:https://www.ferney-voltaire.fr
X-WR-CALDESC:évènements pour Mairie de Ferney-Voltaire
BEGIN:VTIMEZONE
TZID:Europe/Paris
BEGIN:DAYLIGHT
TZOFFSETFROM:+0100
TZOFFSETTO:+0200
TZNAME:CEST
DTSTART:20260329T010000
END:DAYLIGHT
BEGIN:STANDARD
TZOFFSETFROM:+0200
TZOFFSETTO:+0100
TZNAME:CET
DTSTART:20261025T010000
END:STANDARD
END:VTIMEZONE
BEGIN:VEVENT
DTSTART;VALUE=DATE:20260309
DTEND;VALUE=DATE:20260523
DTSTAMP:20260424T191432
CREATED:20210315T110001Z
LAST-MODIFIED:20260316T132035Z
UID:35877-1773014400-1779494399@www.ferney-voltaire.fr
SUMMARY:Rassemblement autos motos anciennes : inscriptions
DESCRIPTION:Les inscriptions pour le traditionnel rassemblement autos motos anciennes du dimanche 31 mai 2026 sont ouvertes jusqu’au vendredi 22 mai 2026. \nAu programme de cette 11e édition : une exposition à ciel ouvert de véhicules anciens et des rencontres avec des collectionneurs et des clubs.\nBuvette et restauration sur place. \nCollectionneurs et possesseurs de véhicules de plus de 35 ans : les inscriptions sont ouvertes ! \n  \nFormulaire d’inscription :\nVeuillez activer JavaScript dans votre navigateur pour remplir ce formulaire.Veuillez activer JavaScript dans votre navigateur pour remplir ce formulaire.Nom et Prénom *Adresse *Téléphone *E-mail *Nom de votre clubInscription pour : *VoituresMotosModèle *Marque et année *Plaque d'immatriculation *Souhaitez-vous proposer des baptêmes de vos véhicules lors de la journée ? *OuiNon		\n			pour prions nombre\n			\n		\n		Autorisez-vous l’éventuelle exploitation de photographies de vos véhicules pour les prochaines éditions ?  *OuiNonPour faciliter l'organisation du repas proposé par le club de pétanque lors du rassemblement\, et leur permettre de prévoir les quantités adéquates\, nous vous prions de bien vouloir indiquer le nombre de repas que vous souhaiteriez réserver :Envoyer   \nTéléchargez ici le formulaire d’inscription au format PDF ici si vous préférez ce format.  \nToutes les demandes sont prises en compte et seront étudiées par le comité de sélection.\nNous vous informons que tous les véhicules inscrits pour le rassemblement autos motos anciennes doivent impérativement être présents de 11h à 17h dans l’avenue Voltaire. \n  \nRenseignements\nService Événements et Vie associative\nMaison du Pays de Voltaire\n26 Grand’rue\n01210 Ferney-Voltaire\nevenements@ferney-voltaire.fr \n  \n  \nVisuel : ©Ville de Ferney-Voltaire
URL:https://www.ferney-voltaire.fr/agenda/rassemblement-autos-motos-anciennes-inscriptions/
LOCATION:Avenue Voltaire\, Avenue Voltaire\, Ferney-Voltaire\, 01120
CATEGORIES:Animation,Exposition
ATTACH;FMTTYPE=image/jpeg:https://www.ferney-voltaire.fr/wp-content/uploads/2025/04/site-evenements-et-actus-inscriptions-auto-moto.jpg
ORGANIZER;CN="Service%20%C3%89v%C3%A9nements%20et%20vie%20associative":MAILTO:evenements@ferney-voltaire.fr
GEO:46.256879;6.110057
X-APPLE-STRUCTURED-LOCATION;VALUE=URI;X-ADDRESS=Avenue Voltaire Avenue Voltaire Ferney-Voltaire 01120;X-APPLE-RADIUS=500;X-TITLE=Avenue Voltaire:geo:6.110057,46.256879
END:VEVENT
END:VCALENDAR